BEGIN:VCALENDAR
VERSION:2.0
PRODID:-//Hospitality Property School Group - ECPv6.3.4//NONSGML v1.0//EN
CALSCALE:GREGORIAN
METHOD:PUBLISH
X-ORIGINAL-URL:https://member.keystonehpd.com
X-WR-CALDESC:Events for Hospitality Property School Group
REFRESH-INTERVAL;VALUE=DURATION:PT1H
X-Robots-Tag:noindex
X-PUBLISHED-TTL:PT1H
BEGIN:VTIMEZONE
TZID:America/New_York
BEGIN:DAYLIGHT
TZOFFSETFROM:-0500
TZOFFSETTO:-0400
TZNAME:EDT
DTSTART:20220313T070000
END:DAYLIGHT
BEGIN:STANDARD
TZOFFSETFROM:-0400
TZOFFSETTO:-0500
TZNAME:EST
DTSTART:20221106T060000
END:STANDARD
END:VTIMEZONE
BEGIN:VEVENT
DTSTART;TZID=America/New_York:20220303T080000
DTEND;TZID=America/New_York:20220303T090000
DTSTAMP:20260422T071719
CREATED:20220308T124555Z
LAST-MODIFIED:20220308T125004Z
UID:5449-1646294400-1646298000@member.keystonehpd.com
SUMMARY:7 Verified Techniques to Boost Security at Your Hospitality Property | Ep. #281
DESCRIPTION:As a hotel-resort-bed & breakfast etc. owner/manager\, your goals are to operate at a profit and keep your guests and employees happy and safe. \nTo achieve the last goal\, it is imperative to boost security at your hospitality property.
URL:https://member.keystonehpd.com/event/7-verified-techniques-to-boost-security-at-your-hospitality-property-282/
CATEGORIES:Facility
END:VEVENT
BEGIN:VEVENT
DTSTART;TZID=America/New_York:20220307T080000
DTEND;TZID=America/New_York:20220307T090000
DTSTAMP:20260422T071719
CREATED:20220308T125151Z
LAST-MODIFIED:20220308T125151Z
UID:5454-1646640000-1646643600@member.keystonehpd.com
SUMMARY:Questions & Answers-003
DESCRIPTION:
URL:https://member.keystonehpd.com/event/questions-answers-003/
CATEGORIES:Questions & Answers
END:VEVENT
BEGIN:VEVENT
DTSTART;TZID=America/New_York:20220310T080000
DTEND;TZID=America/New_York:20220310T090000
DTSTAMP:20260422T071719
CREATED:20220308T124746Z
LAST-MODIFIED:20220308T124849Z
UID:5451-1646899200-1646902800@member.keystonehpd.com
SUMMARY:10 Productivity Traits That Waste Time | Ep. #283
DESCRIPTION:Operating a hospitality property is a never-ending journey that requires your constant and continuous attention. \nI am going to highlight 10 productivity traits that waste time and ways to correct them.
URL:https://member.keystonehpd.com/event/10-productivity-traits-that-waste-time-ep-283/
CATEGORIES:Employee Development
END:VEVENT
BEGIN:VEVENT
DTSTART;TZID=America/New_York:20220314T080000
DTEND;TZID=America/New_York:20220314T090000
DTSTAMP:20260422T071719
CREATED:20220308T131546Z
LAST-MODIFIED:20220308T131546Z
UID:5469-1647244800-1647248400@member.keystonehpd.com
SUMMARY:Operations Manual Addition
DESCRIPTION:
URL:https://member.keystonehpd.com/event/operations-manual-addition-2/
CATEGORIES:Operations Manual
END:VEVENT
BEGIN:VEVENT
DTSTART;TZID=America/New_York:20220317T080000
DTEND;TZID=America/New_York:20220317T210000
DTSTAMP:20260422T071719
CREATED:20220308T125551Z
LAST-MODIFIED:20220308T130545Z
UID:5456-1647504000-1647550800@member.keystonehpd.com
SUMMARY:Traits of a Top Hotel Manager | Ep. #284
DESCRIPTION:The secret of any successful hospitality property lies in its manager. So what essential qualities should you look for in a hotel manager?
URL:https://member.keystonehpd.com/event/traits-of-a-top-hotel-manager-ep-283/
CATEGORIES:Employee Development
END:VEVENT
BEGIN:VEVENT
DTSTART;TZID=America/New_York:20220321T080000
DTEND;TZID=America/New_York:20220321T210000
DTSTAMP:20260422T071719
CREATED:20220308T131957Z
LAST-MODIFIED:20220308T132054Z
UID:5471-1647849600-1647896400@member.keystonehpd.com
SUMMARY:Jim Snediker\, co-founder and CEO of Stock Mfg Interview
DESCRIPTION:Our interview this month is going to be with Jim Snediker\, co-founder and CEO of Stock Mfg\, a company that creates custom uniform programs for some of the greatest establishments\, restaurants and hotels in the world.
URL:https://member.keystonehpd.com/event/jim-snediker-co-founder-and-ceo-of-stock-mfg-interview/
CATEGORIES:Interviews
END:VEVENT
BEGIN:VEVENT
DTSTART;TZID=America/New_York:20220324T080000
DTEND;TZID=America/New_York:20220324T210000
DTSTAMP:20260422T071719
CREATED:20220308T125909Z
LAST-MODIFIED:20220318T162553Z
UID:5458-1648108800-1648155600@member.keystonehpd.com
SUMMARY:7 Ways to Attract Local Guests | Ep. #285
DESCRIPTION:Hospitality properties with a growth strategy have been compelled during the COVID-19 pandemic to rein in that focus\, and tend to their portfolios on a more local level.
URL:https://member.keystonehpd.com/event/7-ways-to-attract-local-guests-ep-285/
CATEGORIES:Marketing
END:VEVENT
BEGIN:VEVENT
DTSTART;TZID=America/New_York:20220331T080000
DTEND;TZID=America/New_York:20220331T210000
DTSTAMP:20260422T071719
CREATED:20220308T130311Z
LAST-MODIFIED:20220324T120201Z
UID:5461-1648713600-1648760400@member.keystonehpd.com
SUMMARY:How to Use Digital Technology and Stand Out | Ep #286
DESCRIPTION:Today\, hospitality properties face the challenge of meeting or even exceeding new digital expectations in order to stand out from the competition.
URL:https://member.keystonehpd.com/event/how-to-reach-your-guests-digitally-ep-285/
CATEGORIES:Marketing
END:VEVENT
END:VCALENDAR