BEGIN:VCALENDAR
VERSION:2.0
PRODID:-//Hospitality Property School Group - ECPv6.3.4//NONSGML v1.0//EN
CALSCALE:GREGORIAN
METHOD:PUBLISH
X-WR-CALNAME:Hospitality Property School Group
X-ORIGINAL-URL:https://member.keystonehpd.com
X-WR-CALDESC:Events for Hospitality Property School Group
REFRESH-INTERVAL;VALUE=DURATION:PT1H
X-Robots-Tag:noindex
X-PUBLISHED-TTL:PT1H
BEGIN:VTIMEZONE
TZID:America/New_York
BEGIN:DAYLIGHT
TZOFFSETFROM:-0500
TZOFFSETTO:-0400
TZNAME:EDT
DTSTART:20220313T070000
END:DAYLIGHT
BEGIN:STANDARD
TZOFFSETFROM:-0400
TZOFFSETTO:-0500
TZNAME:EST
DTSTART:20221106T060000
END:STANDARD
END:VTIMEZONE
BEGIN:VEVENT
DTSTART;TZID=America/New_York:20220210T080000
DTEND;TZID=America/New_York:20220210T090000
DTSTAMP:20260422T175214
CREATED:20220204T123848Z
LAST-MODIFIED:20220210T100930Z
UID:5163-1644480000-1644483600@member.keystonehpd.com
SUMMARY:7 Reasons Guest Satisfaction Has Dropped | Ep. #279
DESCRIPTION:While the relaxing of restrictions in some regions of the world has been a good thing for cash-strapped property owners\, an alarming and unprecedented drop in guest satisfaction has emerged. \nWhat caused this guest satisfaction crunch? I’ll tell you. \nYou will be able to find this post under the “Guest” section on February 10th\, 2022 or by clicking the link below \nhttps://member.keystonehpd.com/register/7-reasons-guest-satisfaction-has-dropped
URL:https://member.keystonehpd.com/event/7-reasons-guest-satisfaction-has-dropped-ep-279/
CATEGORIES:Posts,Your Customers
ATTACH;FMTTYPE=image/jpeg:https://member.keystonehpd.com/wp-content/uploads/2022/02/How-to-Turn-Data-into-Bookings-for-Hotels-Resorts-Bed-Breakfasts-Blog.jpg
END:VEVENT
BEGIN:VEVENT
DTSTART;TZID=America/New_York:20220207T080000
DTEND;TZID=America/New_York:20220207T090000
DTSTAMP:20260422T175214
CREATED:20220207T130042Z
LAST-MODIFIED:20220208T161818Z
UID:5256-1644220800-1644224400@member.keystonehpd.com
SUMMARY:Questions & Answers-002
DESCRIPTION:>What should be my marketing goal when planning a campaign?… \n>When considering a property management system\, what questions should you potential providers?… \n>How do I know if I need to renovate my property?… \n>What are the unique needs of a hospitality properties website?… \n>If a hospitality property is going to remain operational during renovation\, what should be the first considerations?… \n>How can my property conserve water?
URL:https://member.keystonehpd.com/event/questions-answers-002/
CATEGORIES:Questions & Answers
ATTACH;FMTTYPE=image/jpeg:https://member.keystonehpd.com/wp-content/uploads/2022/02/Cover-002.jpg
END:VEVENT
BEGIN:VEVENT
DTSTART;TZID=America/New_York:20220203T080000
DTEND;TZID=America/New_York:20220203T170000
DTSTAMP:20260422T175214
CREATED:20220203T132349Z
LAST-MODIFIED:20220210T132520Z
UID:5366-1643875200-1643907600@member.keystonehpd.com
SUMMARY:6 Strategies for Dealing with Labour Shortages in The Hospitality Property Industry | Ep. #278
DESCRIPTION:The Great Resignation. The Big Quit. Whatever you want to call it\, it’s here\, it’s real and the hospitality industry has been hit harder than just about any other industry. \nI’m going to share 6 strategies for dealing with labour shortages. \nYou can find the episode by clicking the link: \nhttps://member.keystonehpd.com/register/5145-2/
URL:https://member.keystonehpd.com/event/6-strategies-for-dealing-with-labour-shortages-in-the-hospitality-property-industry-ep-278/
CATEGORIES:Employee Development
ATTACH;FMTTYPE=image/jpeg:https://member.keystonehpd.com/wp-content/uploads/2022/02/6-Strategies-for-Dealing-with-Labour-Shortages-Blog.jpg
END:VEVENT
END:VCALENDAR