BEGIN:VCALENDAR
VERSION:2.0
PRODID:-//Hospitality Property School Group - ECPv6.3.4//NONSGML v1.0//EN
CALSCALE:GREGORIAN
METHOD:PUBLISH
X-WR-CALNAME:Hospitality Property School Group
X-ORIGINAL-URL:https://member.keystonehpd.com
X-WR-CALDESC:Events for Hospitality Property School Group
REFRESH-INTERVAL;VALUE=DURATION:PT1H
X-Robots-Tag:noindex
X-PUBLISHED-TTL:PT1H
BEGIN:VTIMEZONE
TZID:America/New_York
BEGIN:DAYLIGHT
TZOFFSETFROM:-0500
TZOFFSETTO:-0400
TZNAME:EDT
DTSTART:20230312T070000
END:DAYLIGHT
BEGIN:STANDARD
TZOFFSETFROM:-0400
TZOFFSETTO:-0500
TZNAME:EST
DTSTART:20231105T060000
END:STANDARD
END:VTIMEZONE
BEGIN:VEVENT
DTSTART;TZID=America/New_York:20230601T080000
DTEND;TZID=America/New_York:20230601T170000
DTSTAMP:20260419T145700
CREATED:20230427T085547Z
LAST-MODIFIED:20230427T085547Z
UID:6488-1685606400-1685638800@member.keystonehpd.com
SUMMARY:The Qualifications That Set a Great Hotel Concierge Apart
DESCRIPTION:
URL:https://member.keystonehpd.com/event/the-qualifications-that-set-a-great-hotel-concierge-apart/
END:VEVENT
BEGIN:VEVENT
DTSTART;TZID=America/New_York:20230606T080000
DTEND;TZID=America/New_York:20230606T090000
DTSTAMP:20260419T145700
CREATED:20230530T150106Z
LAST-MODIFIED:20230606T121704Z
UID:6589-1686038400-1686042000@member.keystonehpd.com
SUMMARY:Property Highlight – Livernano\, Italy
DESCRIPTION:
URL:https://member.keystonehpd.com/event/property-highlight-livernano-italy/
END:VEVENT
BEGIN:VEVENT
DTSTART;TZID=America/New_York:20230608T080000
DTEND;TZID=America/New_York:20230608T090000
DTSTAMP:20260419T145700
CREATED:20230604T113556Z
LAST-MODIFIED:20230604T113556Z
UID:6611-1686211200-1686214800@member.keystonehpd.com
SUMMARY:Interview with Gudrun Cuillo: Hospitality Property Owner\, Winemaker & Author
DESCRIPTION:
URL:https://member.keystonehpd.com/event/interview-with-gudrun-cuillo-hospitality-property-owner-winemaker-author/
END:VEVENT
BEGIN:VEVENT
DTSTART;TZID=America/New_York:20230613T080000
DTEND;TZID=America/New_York:20230613T090000
DTSTAMP:20260419T145700
CREATED:20230604T112930Z
LAST-MODIFIED:20230604T112930Z
UID:6605-1686643200-1686646800@member.keystonehpd.com
SUMMARY:New Hospitality Property Checklist
DESCRIPTION:
URL:https://member.keystonehpd.com/event/new-hospitality-property-checklist/
END:VEVENT
BEGIN:VEVENT
DTSTART;TZID=America/New_York:20230615T080000
DTEND;TZID=America/New_York:20230615T090000
DTSTAMP:20260419T145700
CREATED:20230604T113152Z
LAST-MODIFIED:20230604T113152Z
UID:6607-1686816000-1686819600@member.keystonehpd.com
SUMMARY:Reviving Your Hospitality Business’s Brand_ Tips and Tricks
DESCRIPTION:
URL:https://member.keystonehpd.com/event/reviving-your-hospitality-businesss-brand_-tips-and-tricks/
END:VEVENT
BEGIN:VEVENT
DTSTART;TZID=America/New_York:20230620T080000
DTEND;TZID=America/New_York:20230620T090000
DTSTAMP:20260419T145700
CREATED:20230604T113244Z
LAST-MODIFIED:20230604T113244Z
UID:6609-1687248000-1687251600@member.keystonehpd.com
SUMMARY:Monthly Questions & Answers
DESCRIPTION:
URL:https://member.keystonehpd.com/event/monthly-questions-answers/
END:VEVENT
BEGIN:VEVENT
DTSTART;TZID=America/New_York:20230622T080000
DTEND;TZID=America/New_York:20230622T090000
DTSTAMP:20260419T145700
CREATED:20230427T092047Z
LAST-MODIFIED:20230604T113424Z
UID:6490-1687420800-1687424400@member.keystonehpd.com
SUMMARY:Why Hiring a Competent Engineer is Critical for Your Hotel's Infrastructure and Safety
DESCRIPTION:
URL:https://member.keystonehpd.com/event/why-hiring-a-competent-engineer-is-critical-for-your-hotels-infrastructure-and-safety/
END:VEVENT
BEGIN:VEVENT
DTSTART;TZID=America/New_York:20230627T080000
DTEND;TZID=America/New_York:20230627T090000
DTSTAMP:20260419T145700
CREATED:20230604T114023Z
LAST-MODIFIED:20230604T114023Z
UID:6613-1687852800-1687856400@member.keystonehpd.com
SUMMARY:Discussion of the Month
DESCRIPTION:
URL:https://member.keystonehpd.com/event/discussion-of-the-month/
END:VEVENT
BEGIN:VEVENT
DTSTART;TZID=America/New_York:20230629T080000
DTEND;TZID=America/New_York:20230629T090000
DTSTAMP:20260419T145700
CREATED:20230427T092123Z
LAST-MODIFIED:20230604T113843Z
UID:6492-1688025600-1688029200@member.keystonehpd.com
SUMMARY:How a Trained Spa and Wellness Employee Can Boost Your Hotel's Revenue and Guest Satisfaction
DESCRIPTION:
URL:https://member.keystonehpd.com/event/how-a-trained-spa-and-wellness-employee-can-boost-your-hotels-revenue-and-guest-satisfaction/
END:VEVENT
BEGIN:VEVENT
DTSTART;TZID=America/New_York:20230704T080000
DTEND;TZID=America/New_York:20230704T090000
DTSTAMP:20260419T145700
CREATED:20230604T114119Z
LAST-MODIFIED:20230630T102817Z
UID:6615-1688457600-1688461200@member.keystonehpd.com
SUMMARY:Monthly Checklist
DESCRIPTION:
URL:https://member.keystonehpd.com/event/monthly-checklist/
END:VEVENT
BEGIN:VEVENT
DTSTART;TZID=America/New_York:20230706T080000
DTEND;TZID=America/New_York:20230706T090000
DTSTAMP:20260419T145700
CREATED:20230427T092214Z
LAST-MODIFIED:20230604T114308Z
UID:6494-1688630400-1688634000@member.keystonehpd.com
SUMMARY:Expertise in Financial Analysis and Reporting: A Must-Have for Your Hotel's Accounting and Finance Staff
DESCRIPTION:
URL:https://member.keystonehpd.com/event/expertise-in-financial-analysis-and-reporting-a-must-have-for-your-hotels-accounting-and-finance-staff/
END:VEVENT
BEGIN:VEVENT
DTSTART;TZID=America/New_York:20230711T080000
DTEND;TZID=America/New_York:20230711T090000
DTSTAMP:20260419T145700
CREATED:20230604T114353Z
LAST-MODIFIED:20230630T102928Z
UID:6617-1689062400-1689066000@member.keystonehpd.com
SUMMARY:Property Highlight
DESCRIPTION:
URL:https://member.keystonehpd.com/event/property-highlights/
END:VEVENT
BEGIN:VEVENT
DTSTART;TZID=America/New_York:20230713T080000
DTEND;TZID=America/New_York:20230713T090000
DTSTAMP:20260419T145700
CREATED:20230427T092258Z
LAST-MODIFIED:20230604T114448Z
UID:6496-1689235200-1689238800@member.keystonehpd.com
SUMMARY:Expertise in Crisis Management and Emergency Response: Must-Haves for Your Hotel's Security Staff
DESCRIPTION:
URL:https://member.keystonehpd.com/event/expertise-in-crisis-management-and-emergency-response-must-haves-for-your-hotels-security-staff/
END:VEVENT
BEGIN:VEVENT
DTSTART;TZID=America/New_York:20230718T080000
DTEND;TZID=America/New_York:20230718T090000
DTSTAMP:20260419T145700
CREATED:20230604T114615Z
LAST-MODIFIED:20230604T115401Z
UID:6619-1689667200-1689670800@member.keystonehpd.com
SUMMARY:Monthly Questions & Answers
DESCRIPTION:
URL:https://member.keystonehpd.com/event/monthly-questions-answers-2/
END:VEVENT
BEGIN:VEVENT
DTSTART;TZID=America/New_York:20230720T080000
DTEND;TZID=America/New_York:20230720T090000
DTSTAMP:20260419T145700
CREATED:20230427T092357Z
LAST-MODIFIED:20230604T115514Z
UID:6498-1689840000-1689843600@member.keystonehpd.com
SUMMARY:Expert Tips for Developing a Successful Employee Retention Plan for Your Hotel
DESCRIPTION:
URL:https://member.keystonehpd.com/event/expert-tips-for-developing-a-successful-employee-retention-plan-for-your-hotel/
END:VEVENT
BEGIN:VEVENT
DTSTART;TZID=America/New_York:20231023T080000
DTEND;TZID=America/New_York:20231023T090000
DTSTAMP:20260419T145700
CREATED:20230604T115644Z
LAST-MODIFIED:20231005T053326Z
UID:6621-1698048000-1698051600@member.keystonehpd.com
SUMMARY:Big Things - Stay Tuned!
DESCRIPTION:
URL:https://member.keystonehpd.com/event/big-things-stay-tuned/
END:VEVENT
END:VCALENDAR